BEGIN:VCALENDAR
VERSION:2.0
PRODID:-//Loddon Mallee Homelessness Network - ECPv6.15.17.1//NONSGML v1.0//EN
CALSCALE:GREGORIAN
METHOD:PUBLISH
X-ORIGINAL-URL:https://lmhn.net.au
X-WR-CALDESC:Events for Loddon Mallee Homelessness Network
REFRESH-INTERVAL;VALUE=DURATION:PT1H
X-Robots-Tag:noindex
X-PUBLISHED-TTL:PT1H
BEGIN:VTIMEZONE
TZID:Australia/Melbourne
BEGIN:STANDARD
TZOFFSETFROM:+1100
TZOFFSETTO:+1000
TZNAME:AEST
DTSTART:20190406T160000
END:STANDARD
BEGIN:DAYLIGHT
TZOFFSETFROM:+1000
TZOFFSETTO:+1100
TZNAME:AEDT
DTSTART:20191005T160000
END:DAYLIGHT
BEGIN:STANDARD
TZOFFSETFROM:+1100
TZOFFSETTO:+1000
TZNAME:AEST
DTSTART:20200404T160000
END:STANDARD
BEGIN:DAYLIGHT
TZOFFSETFROM:+1000
TZOFFSETTO:+1100
TZNAME:AEDT
DTSTART:20201003T160000
END:DAYLIGHT
BEGIN:STANDARD
TZOFFSETFROM:+1100
TZOFFSETTO:+1000
TZNAME:AEST
DTSTART:20210403T160000
END:STANDARD
BEGIN:DAYLIGHT
TZOFFSETFROM:+1000
TZOFFSETTO:+1100
TZNAME:AEDT
DTSTART:20211002T160000
END:DAYLIGHT
BEGIN:STANDARD
TZOFFSETFROM:+1100
TZOFFSETTO:+1000
TZNAME:AEST
DTSTART:20220402T160000
END:STANDARD
BEGIN:DAYLIGHT
TZOFFSETFROM:+1000
TZOFFSETTO:+1100
TZNAME:AEDT
DTSTART:20221001T160000
END:DAYLIGHT
BEGIN:STANDARD
TZOFFSETFROM:+1100
TZOFFSETTO:+1000
TZNAME:AEST
DTSTART:20230401T160000
END:STANDARD
BEGIN:DAYLIGHT
TZOFFSETFROM:+1000
TZOFFSETTO:+1100
TZNAME:AEDT
DTSTART:20230930T160000
END:DAYLIGHT
BEGIN:STANDARD
TZOFFSETFROM:+1100
TZOFFSETTO:+1000
TZNAME:AEST
DTSTART:20240406T160000
END:STANDARD
BEGIN:DAYLIGHT
TZOFFSETFROM:+1000
TZOFFSETTO:+1100
TZNAME:AEDT
DTSTART:20241005T160000
END:DAYLIGHT
END:VTIMEZONE
BEGIN:VTIMEZONE
TZID:UTC
BEGIN:STANDARD
TZOFFSETFROM:+0000
TZOFFSETTO:+0000
TZNAME:UTC
DTSTART:20190101T000000
END:STANDARD
END:VTIMEZONE
BEGIN:VEVENT
DTSTART;TZID=Australia/Melbourne:20230921T120000
DTEND;TZID=Australia/Melbourne:20230921T133000
DTSTAMP:20260421T191143
CREATED:20230830T063705Z
LAST-MODIFIED:20230830T063814Z
UID:6468-1695297600-1695303000@lmhn.net.au
SUMMARY:Open Webinar - National Housing and Homelessness Plan
DESCRIPTION:Open Webinar – National Housing and Homelessness Plan https://us02web.zoom.us/j/87281313409 This event is held on Zoom. You will receive the link once you register to the event. https://us02web.zoom.us/j/87281313409
URL:https://lmhn.net.au/event/open-webinar-national-housing-and-homelessness-plan/
CATEGORIES:Homelessness,Housing
END:VEVENT
BEGIN:VEVENT
DTSTART;TZID=Australia/Melbourne:20230214T093000
DTEND;TZID=Australia/Melbourne:20230216T123000
DTSTAMP:20260421T191143
CREATED:20221208T004108Z
LAST-MODIFIED:20221208T004108Z
UID:6232-1676367000-1676550600@lmhn.net.au
SUMMARY:Case Management Practice
DESCRIPTION:Case management practice is a core skill in the child\, youth and family\, and homelessness services sector.\nThis workshop aims to provide participants with an understanding of case management practice and the various skills that are required to fulfil this role within the community services sector. \nAt the completion of this program you will be able to: \n\nDemonstrate an understanding of case management practice and models\nOutline the legal requirements of case management within the community services sector\nUnderstand the theories that underpin case management\nThe role ethics plays in case management\nThe role and responsibilities of a case manager in various work contexts\nTo understand and embed trauma-informed practice\nHow to complete meaningful documentation\nTo develop meaningful case plans & goal setting with clients\nHow to work collaboratively with clients and services\nTo actively engage clients in the change process\nEngaging complex clients to address their needs\nHow to effectively utilise supervision and reflective practice\nHow to develop and implement a worker’s wellbeing & self-care plan\n\nDelivery: Virtual\nDate: Tuesday 14th & Thursday 16th February 2023\nTime: 9.30 am – 12.30 pm on both days\nTrainer: Kerry Marshall (New Beginnings)\nCost: $100
URL:https://lmhn.net.au/event/case-management-practice/
LOCATION:Online
CATEGORIES:Case Management,Homelessness,Housing,Professional Development
END:VEVENT
BEGIN:VEVENT
DTSTART;TZID=Australia/Melbourne:20210429T110000
DTEND;TZID=Australia/Melbourne:20210429T130000
DTSTAMP:20260421T191143
CREATED:20210202T000832Z
LAST-MODIFIED:20210202T000832Z
UID:5545-1619694000-1619701200@lmhn.net.au
SUMMARY:Introduction to the Advance to Zero Homelessness Methodology
DESCRIPTION:Ending Homelessness is possible\, this session will explain how communities around the world are demonstrating this and how communities in Australia are seeking to implement the Zero Homelessness Methodology though the AAEH’s Advance to Zero Campaign. \nThe session will be useful for anyone interested in learning how to use the methodology in their community and for those who might already be part of a collaborative but are keen to get a more holistic understanding of how the approach works.
URL:https://lmhn.net.au/event/introduction-to-the-advance-to-zero-homelessness-methodology/
LOCATION:Online
CATEGORIES:Advocacy,Homelessness,Housing
ORGANIZER;CN="Australian Alliance to End Homelessness":MAILTO:info@aaeh.org.au
END:VEVENT
BEGIN:VEVENT
DTSTART;TZID=Australia/Melbourne:20201216T130000
DTEND;TZID=Australia/Melbourne:20201216T150000
DTSTAMP:20260421T191143
CREATED:20201103T023416Z
LAST-MODIFIED:20201103T023416Z
UID:5354-1608123600-1608130800@lmhn.net.au
SUMMARY:Understanding the big social housing picture
DESCRIPTION:Terry Burke is Professor of Housing studies at Swinburne University. He is one of Australia’s most well-known academic researchers and conceived\, developed\, and taught Swinburne’s suite of social  housing management courses (Grad Cert\, Dip and Masters in Housing Management and Policy). He has served on many urban and housing advisory panels and committees for all levels of government and is currently on the board of the CHIA Vic. \nThis short course is about understanding the big picture. Why are housing problems in Australia so deep and entrenched\, why is the social housing sector in Australia like it is; how is it different to other countries\, why are housing problems in Australia so deep\, and what are the contemporary debates about social housing management practices such as allocations\, rent setting\, and support services? And what is the relationship between housing and the welfare/income support system? The course is about building knowledge rather than day to day skills. \nThe course will cover: \n\nThe distinctive attributes of the Australian housing system.\nWhat is a housing problem?\nThe different ways low income households can be assisted.\nThe how and why of the Australian social housing system.\nRent setting methods in social housing.\nAllocation systems and problems and issues.\nThe asset management challenge.\n\nIt would be suitable for: \n\nManagement and team leaders\nStaff with responsibility for tenancy and property management\nAnybody interested in Australia’s current housing problems
URL:https://lmhn.net.au/event/understanding-the-big-social-housing-picture/
LOCATION:Online
CATEGORIES:Community Housing,Community Sector,Housing
ORGANIZER;CN="Community Housing Industry Association of Victoria":MAILTO:holly.mullaney@chiavic.com.au
END:VEVENT
BEGIN:VEVENT
DTSTART;TZID=Australia/Melbourne:20201215T100000
DTEND;TZID=Australia/Melbourne:20201215T120000
DTSTAMP:20260421T191143
CREATED:20201103T023207Z
LAST-MODIFIED:20201103T023207Z
UID:5352-1608026400-1608033600@lmhn.net.au
SUMMARY:Why so little social housing? The politics of Australian housing policy
DESCRIPTION:Terry Burke is Professor of Housing studies at Swinburne University. He is one of Australia’s most well-known academic researchers and conceived\, developed\, and taught Swinburne’s suite of social  housing management courses (Grad Cert\, Dip and Masters in Housing Management and Policy). He has served on many urban and housing advisory panels and committees for all levels of government and is currently on the board of the CHIA Vic. \nThis workshop provides an understanding of the question ‘Why can’t social housing get greater political traction in Australia?’ For almost three decades social housing has been in decline despite abundant evidence as to need and a mountain of policy ideas for a way forward. The workshop equips participants to understand: \n\nWhy\, despite substantial evidence of housing failure\, there is very little policy reform in Australia.\nWhy the few policy changes we have seen are a much part of the problem as a solution.\nWhat is it in the make of the Australian governance and housing systems social housing cannot get greater political take up?\nWhether the COVID19 crisis will make any real difference to the future of social housing and if so how?\n\nIt would be suitable for: \n\nManagement and team leaders\nStaff with responsibility for tenancy and property management\nAnybody interested in Australia’s current housing problems.
URL:https://lmhn.net.au/event/why-so-little-social-housing-the-politics-of-australian-housing-policy/
LOCATION:Online
CATEGORIES:Affordable Housing,Community Housing,Housing
ORGANIZER;CN="Community Housing Industry Association of Victoria":MAILTO:holly.mullaney@chiavic.com.au
END:VEVENT
BEGIN:VEVENT
DTSTART;TZID=Australia/Melbourne:20201208T093000
DTEND;TZID=Australia/Melbourne:20201208T123000
DTSTAMP:20260421T191143
CREATED:20201103T022902Z
LAST-MODIFIED:20201103T022902Z
UID:5349-1607419800-1607430600@lmhn.net.au
SUMMARY:Community Housing Aboriginal Cultural Safety Framework – Cultural Awareness Training
DESCRIPTION:Recently Ministers Wynne and Williams launched the Framework in a virtual member’s meeting where a number of CHO CEOs committed their organisations to work towards having a culturally safe service and workplace. You can view the videos of the CEOs committing to the framework\, an Aboriginal tenant and Aboriginal employee talking about the impact of dealing with a culturally-safe organisation\, and report consultant Jenny Samms talking about the next steps on the CHIA Vic website. \nHave Your Staff Undertaken Cultural Awareness Training? \nCHIA Vic has partnered with the Victorian Aboriginal Community Services Association (VACSAL) to deliver cultural awareness training in the context of the new Community Housing Aboriginal Cultural Safety Framework. \nThis course will give participants an increased understanding of the historical and cultural events that continue to impact on Aboriginal communities and individuals. It will examine the impact of racism and stereotyping and look at ways to break down barriers to working effectively with Aboriginal organisations and individuals. \nWhilst the training does not cover the implementation of the framework\, it will provide participants with a sound base to assist their organisation to begin the process of adopting the framework.
URL:https://lmhn.net.au/event/community-housing-aboriginal-cultural-safety-framework-cultural-awareness-training/
LOCATION:Online
CATEGORIES:Housing,Inclusive Practice
END:VEVENT
BEGIN:VEVENT
DTSTART;TZID=UTC:20201201T090000
DTEND;TZID=UTC:20201202T170000
DTSTAMP:20260421T191143
CREATED:20200913T141419Z
LAST-MODIFIED:20200928T213452Z
UID:5237-1606813200-1606928400@lmhn.net.au
SUMMARY:National Homelessness Conference
DESCRIPTION:After a year like no other\, we are pleased to announce that the 2020 National Homelessness Conference will go ahead – online – on 1 and 2 December. Save the dates in your diary\, registrations will open in the next fortnight. \nWe are developing a conference program that will examine the impacts on our sector from the unprecedented coronavirus pandemic as well as the catastrophic climate disasters of last summer. The program will also cover the major challenges and opportunities in homelessness policy and practice that were in play before\, and will continue to be important after the pandemic. \nOur team has spent much of lockdown understanding how virtual conferences work best\, so we guarantee a program that is fast paced\, methodically planned\, interactive\, engaging and with luck\, a bit of fun as we catch up with colleagues and friends after such a challenging 12 months. \nEarly bird registrations will open soon and we encourage you to join us online this December. \nSubscribe to receive conference updates here.
URL:https://lmhn.net.au/event/national-homelessness-conference/
LOCATION:Online
CATEGORIES:Conference,Homelessness,Housing
ORGANIZER;CN="Australian Housing and Urban Research Institute":MAILTO:information@ahuri.edu.au
END:VEVENT
BEGIN:VEVENT
DTSTART;TZID=Australia/Melbourne:20201112T140000
DTEND;TZID=Australia/Melbourne:20201112T150000
DTSTAMP:20260421T191143
CREATED:20201103T010426Z
LAST-MODIFIED:20201103T010426Z
UID:5330-1605189600-1605193200@lmhn.net.au
SUMMARY:Making VHR allocations – refresher training
DESCRIPTION:Join CHIA Vic and the DHHS Victorian Housing Register team for a practical session on how to make allocations in the VHR. This session is designed to build upon the initial 2 day training. It will provide a refresher for anyone who has not made an allocation recently\, or would like some tips and tricks on how best to record an allocation in the VHR. \nThis session is appropriate for managers or staff who are making allocations in the VHR. It is restricted to community housing organisations who have opted into the VHR.
URL:https://lmhn.net.au/event/making-vhr-allocations-refresher-training/
LOCATION:Online
CATEGORIES:Housing,Victorian Housing Register
ORGANIZER;CN="Community Housing Industry Association of Victoria":MAILTO:holly.mullaney@chiavic.com.au
END:VEVENT
BEGIN:VEVENT
DTSTART;TZID=Australia/Melbourne:20201110T093000
DTEND;TZID=Australia/Melbourne:20201110T123000
DTSTAMP:20260421T191143
CREATED:20201102T222927Z
LAST-MODIFIED:20201102T222944Z
UID:5319-1605000600-1605011400@lmhn.net.au
SUMMARY:Measuring the impact of safe\, secure and affordable housing
DESCRIPTION:Positively impacting the lives of tenants is at the core of what we do. Yet we often struggle to measure and communicate this impact in a way that demonstrates the true value of community housing. \nJoin your community housing peers for this 3-hour session on practical skills and tools to immediately put into practice impact measurement and management in your organisation. It is tailored to the needs of community housing organisations seeking to use the CHIA Vic Social Outcomes Framework.
URL:https://lmhn.net.au/event/measuring-the-impact-of-safe-secure-and-affordable-housing/
LOCATION:Online
CATEGORIES:Affordable Housing,Community Housing,Housing
ORGANIZER;CN="Community Housing Industry Association of Victoria":MAILTO:holly.mullaney@chiavic.com.au
END:VEVENT
BEGIN:VEVENT
DTSTART;TZID=Australia/Melbourne:20201109T100000
DTEND;TZID=Australia/Melbourne:20201109T130000
DTSTAMP:20260421T191143
CREATED:20201102T222728Z
LAST-MODIFIED:20201102T222728Z
UID:5317-1604916000-1604926800@lmhn.net.au
SUMMARY:Tenants and Neighbours – How to get along
DESCRIPTION:Is your tenants’ behaviour disturbing or inconveniencing their neighbours? Is the stress of the situation causing high staff turnover for your organisation?  What on earth can you do? \nThis training program\, created by Goodhardt Consulting\, tackles this scenario by looking at: \n\nthe nature of conflict and the perspective of each side\nhow conflict escalates\, and what can prevent this\nlistening skills and techniques and knowing when to use them\nquestioning techniques to probe for underlying interests\ntechniques for turning conflict into conversation\, and working together rather than working against\nthe concept of Perpetual Problems and how a continual search for resolution can become frustrating and how to prevent gridlock.\n\nTrainer Ian Goodhardt holds Masters degrees in Counselling and Conflict resolution.  He has worked in family law mediation for over 10 years. Ian is an accredited Mental Health First Aid (MHFA) instructor and has been teaching this course since 2006. \nWho should attend? \n\nfrontline workers\nhousing/tenancy workers\ncase managers\ncommunity development workers and tenant (resident) leaders\nhousing advocates\nmanagers and supervisors.
URL:https://lmhn.net.au/event/tenants-and-neighbours-how-to-get-along/
LOCATION:Online
CATEGORIES:Housing,Tenancy
ORGANIZER;CN="Community Housing Industry Association of Victoria":MAILTO:holly.mullaney@chiavic.com.au
END:VEVENT
BEGIN:VEVENT
DTSTART;TZID=Australia/Melbourne:20201029T110000
DTEND;TZID=Australia/Melbourne:20201029T123000
DTSTAMP:20260421T191143
CREATED:20201019T060622Z
LAST-MODIFIED:20201019T060622Z
UID:5291-1603969200-1603974600@lmhn.net.au
SUMMARY:Integrating Housing Support for Vulnerable Families
DESCRIPTION:This free webinar will present findings from a new AHURI research project — Inquiry into integrated housing support for vulnerable families — led by Associate Professor kylie valentine\, University of New South Wales. \nThis Inquiry investigated how housing support for vulnerable families experiencing domestic and family violence can be best integrated with other types of support to enhance safety and wellbeing\, including for women in different housing tenures\, for Indigenous women and the integration of social housing policy with policies to support women affected by domestic and family violence.
URL:https://lmhn.net.au/event/integrating-housing-support-for-vulnerable-families/
LOCATION:Online
CATEGORIES:Family Violence,Housing,Inclusive Practice
ORGANIZER;CN="Australian Housing and Urban Research Institute":MAILTO:information@ahuri.edu.au
END:VEVENT
BEGIN:VEVENT
DTSTART;TZID=UTC:20200916T110000
DTEND;TZID=UTC:20200916T123000
DTSTAMP:20260421T191143
CREATED:20200913T142637Z
LAST-MODIFIED:20200913T142637Z
UID:5240-1600254000-1600259400@lmhn.net.au
SUMMARY:New housing supply in Australia – a 10-year analysis
DESCRIPTION:Professor Steven Rowley\, Curtin University will present findings from the Australian Housing and Urban Research Institute research project on The uneven distribution of affordable supply. \nAlmost 1.5 million new homes were built in Australian in the 10 years from 2006 to 2016 but the growth of housing stock in each state and territory was uneven\, ranging from 26 per cent in Western Australia to just 12 per cent in New South Wales.  \nOver this period\, housing supply varied in mainland capital cities – some delivering more housing in inner areas (Sydney\, Melbourne) while others have seen housing concentrated in outer areas (Adelaide\, Perth).  \n 
URL:https://lmhn.net.au/event/new-housing-supply-in-australia-a-10-year-analysis/
LOCATION:Online
CATEGORIES:Housing
ORGANIZER;CN="Australian Housing and Urban Research Institute":MAILTO:information@ahuri.edu.au
END:VEVENT
END:VCALENDAR