BEGIN:VCALENDAR
VERSION:2.0
PRODID:-//Loddon Mallee Homelessness Network - ECPv6.15.17.1//NONSGML v1.0//EN
CALSCALE:GREGORIAN
METHOD:PUBLISH
X-WR-CALNAME:Loddon Mallee Homelessness Network
X-ORIGINAL-URL:https://lmhn.net.au
X-WR-CALDESC:Events for Loddon Mallee Homelessness Network
REFRESH-INTERVAL;VALUE=DURATION:PT1H
X-Robots-Tag:noindex
X-PUBLISHED-TTL:PT1H
BEGIN:VTIMEZONE
TZID:UTC
BEGIN:STANDARD
TZOFFSETFROM:+0000
TZOFFSETTO:+0000
TZNAME:UTC
DTSTART:20190101T000000
END:STANDARD
END:VTIMEZONE
BEGIN:VTIMEZONE
TZID:Australia/Melbourne
BEGIN:STANDARD
TZOFFSETFROM:+1100
TZOFFSETTO:+1000
TZNAME:AEST
DTSTART:20190406T160000
END:STANDARD
BEGIN:DAYLIGHT
TZOFFSETFROM:+1000
TZOFFSETTO:+1100
TZNAME:AEDT
DTSTART:20191005T160000
END:DAYLIGHT
BEGIN:STANDARD
TZOFFSETFROM:+1100
TZOFFSETTO:+1000
TZNAME:AEST
DTSTART:20200404T160000
END:STANDARD
BEGIN:DAYLIGHT
TZOFFSETFROM:+1000
TZOFFSETTO:+1100
TZNAME:AEDT
DTSTART:20201003T160000
END:DAYLIGHT
BEGIN:STANDARD
TZOFFSETFROM:+1100
TZOFFSETTO:+1000
TZNAME:AEST
DTSTART:20210403T160000
END:STANDARD
BEGIN:DAYLIGHT
TZOFFSETFROM:+1000
TZOFFSETTO:+1100
TZNAME:AEDT
DTSTART:20211002T160000
END:DAYLIGHT
END:VTIMEZONE
BEGIN:VEVENT
DTSTART;TZID=UTC:20201119T110000
DTEND;TZID=UTC:20201119T123000
DTSTAMP:20260421T042722
CREATED:20200902T211511Z
LAST-MODIFIED:20200902T211511Z
UID:5216-1605783600-1605789000@lmhn.net.au
SUMMARY:Validata Webinar
DESCRIPTION:Basic functions within Validata\, including uploading and submitting extracts\, viewing reports & user admin. \n*Register by 12th November
URL:https://lmhn.net.au/event/validata-webinar-2/
LOCATION:Online
CATEGORIES:Data,Validata
END:VEVENT
BEGIN:VEVENT
DTSTART;TZID=UTC:20200922T110000
DTEND;TZID=UTC:20200922T123000
DTSTAMP:20260421T042722
CREATED:20200902T210526Z
LAST-MODIFIED:20200902T210526Z
UID:5210-1600772400-1600777800@lmhn.net.au
SUMMARY:Validata Webinar
DESCRIPTION:Basic functions within Validata\, including uploading and submitting extracts\, viewing reports & user admin. \n*Register by 15th September \n 
URL:https://lmhn.net.au/event/validata-webinar/
LOCATION:Online
CATEGORIES:Data,Validata
END:VEVENT
BEGIN:VEVENT
DTSTART;TZID=Australia/Melbourne:20200324T140000
DTEND;TZID=Australia/Melbourne:20200324T150000
DTSTAMP:20260421T042722
CREATED:20200203T051505Z
LAST-MODIFIED:20200203T051505Z
UID:4636-1585058400-1585062000@lmhn.net.au
SUMMARY:Validata Online Webinar
DESCRIPTION:This online workshop will cover basic functions of Validata\, including uploading and submitting extracts\, viewing reports and user admin. \nPlease click on the website address below to complete your registration.
URL:https://lmhn.net.au/event/validata-online-webinar-2/
CATEGORIES:Data,Validata
END:VEVENT
BEGIN:VEVENT
DTSTART;TZID=Australia/Melbourne:20200225T140000
DTEND;TZID=Australia/Melbourne:20200225T150000
DTSTAMP:20260421T042722
CREATED:20200203T051130Z
LAST-MODIFIED:20200203T051130Z
UID:4632-1582639200-1582642800@lmhn.net.au
SUMMARY:Validata Online Webinar
DESCRIPTION:This online workshop will cover basic functions of Validata\, including uploading and submitting extracts\, viewing reports and user admin. \nRegister by 18th February \nPlease click on the website address below to complete your registration. \n 
URL:https://lmhn.net.au/event/validata-online-webinar/
CATEGORIES:Data,Validata
END:VEVENT
END:VCALENDAR