BEGIN:VCALENDAR
VERSION:2.0
PRODID:-//Loddon Mallee Homelessness Network - ECPv6.15.17.1//NONSGML v1.0//EN
CALSCALE:GREGORIAN
METHOD:PUBLISH
X-WR-CALNAME:Loddon Mallee Homelessness Network
X-ORIGINAL-URL:https://lmhn.net.au
X-WR-CALDESC:Events for Loddon Mallee Homelessness Network
REFRESH-INTERVAL;VALUE=DURATION:PT1H
X-Robots-Tag:noindex
X-PUBLISHED-TTL:PT1H
BEGIN:VTIMEZONE
TZID:Australia/Melbourne
BEGIN:STANDARD
TZOFFSETFROM:+1100
TZOFFSETTO:+1000
TZNAME:AEST
DTSTART:20190406T160000
END:STANDARD
BEGIN:DAYLIGHT
TZOFFSETFROM:+1000
TZOFFSETTO:+1100
TZNAME:AEDT
DTSTART:20191005T160000
END:DAYLIGHT
BEGIN:STANDARD
TZOFFSETFROM:+1100
TZOFFSETTO:+1000
TZNAME:AEST
DTSTART:20200404T160000
END:STANDARD
BEGIN:DAYLIGHT
TZOFFSETFROM:+1000
TZOFFSETTO:+1100
TZNAME:AEDT
DTSTART:20201003T160000
END:DAYLIGHT
BEGIN:STANDARD
TZOFFSETFROM:+1100
TZOFFSETTO:+1000
TZNAME:AEST
DTSTART:20210403T160000
END:STANDARD
BEGIN:DAYLIGHT
TZOFFSETFROM:+1000
TZOFFSETTO:+1100
TZNAME:AEDT
DTSTART:20211002T160000
END:DAYLIGHT
END:VTIMEZONE
BEGIN:VEVENT
DTSTART;TZID=Australia/Melbourne:20201112T140000
DTEND;TZID=Australia/Melbourne:20201112T150000
DTSTAMP:20260421T051046
CREATED:20201103T010426Z
LAST-MODIFIED:20201103T010426Z
UID:5330-1605189600-1605193200@lmhn.net.au
SUMMARY:Making VHR allocations – refresher training
DESCRIPTION:Join CHIA Vic and the DHHS Victorian Housing Register team for a practical session on how to make allocations in the VHR. This session is designed to build upon the initial 2 day training. It will provide a refresher for anyone who has not made an allocation recently\, or would like some tips and tricks on how best to record an allocation in the VHR. \nThis session is appropriate for managers or staff who are making allocations in the VHR. It is restricted to community housing organisations who have opted into the VHR.
URL:https://lmhn.net.au/event/making-vhr-allocations-refresher-training/
LOCATION:Online
CATEGORIES:Housing,Victorian Housing Register
ORGANIZER;CN="Community Housing Industry Association of Victoria":MAILTO:holly.mullaney@chiavic.com.au
END:VEVENT
END:VCALENDAR