BEGIN:VCALENDAR
VERSION:2.0
PRODID:-//Loddon Mallee Homelessness Network - ECPv6.15.17.1//NONSGML v1.0//EN
CALSCALE:GREGORIAN
METHOD:PUBLISH
X-ORIGINAL-URL:https://lmhn.net.au
X-WR-CALDESC:Events for Loddon Mallee Homelessness Network
REFRESH-INTERVAL;VALUE=DURATION:PT1H
X-Robots-Tag:noindex
X-PUBLISHED-TTL:PT1H
BEGIN:VTIMEZONE
TZID:Australia/Melbourne
BEGIN:STANDARD
TZOFFSETFROM:+1100
TZOFFSETTO:+1000
TZNAME:AEST
DTSTART:20190406T160000
END:STANDARD
BEGIN:DAYLIGHT
TZOFFSETFROM:+1000
TZOFFSETTO:+1100
TZNAME:AEDT
DTSTART:20191005T160000
END:DAYLIGHT
BEGIN:STANDARD
TZOFFSETFROM:+1100
TZOFFSETTO:+1000
TZNAME:AEST
DTSTART:20200404T160000
END:STANDARD
BEGIN:DAYLIGHT
TZOFFSETFROM:+1000
TZOFFSETTO:+1100
TZNAME:AEDT
DTSTART:20201003T160000
END:DAYLIGHT
BEGIN:STANDARD
TZOFFSETFROM:+1100
TZOFFSETTO:+1000
TZNAME:AEST
DTSTART:20210403T160000
END:STANDARD
BEGIN:DAYLIGHT
TZOFFSETFROM:+1000
TZOFFSETTO:+1100
TZNAME:AEDT
DTSTART:20211002T160000
END:DAYLIGHT
END:VTIMEZONE
BEGIN:VEVENT
DTSTART;TZID=Australia/Melbourne:20200401T140000
DTEND;TZID=Australia/Melbourne:20200401T150000
DTSTAMP:20260421T095958
CREATED:20200203T054300Z
LAST-MODIFIED:20200203T054300Z
UID:4641-1585749600-1585753200@lmhn.net.au
SUMMARY:SHIP- Basic Functions
DESCRIPTION:This training is for new users of the Specialist Homelessness Information Platform or SHIP database\, particularly where you have not had the opportunity to attend face to face training. \nIt includes opening a client support period and SHSC concepts and definitions. \nRegister by 25th of March  \nPlease click on the web address below to register.
URL:https://lmhn.net.au/event/ship-basic-functions-2/
LOCATION:Victoria
CATEGORIES:Data,SHIP Training
END:VEVENT
BEGIN:VEVENT
DTSTART;TZID=Australia/Melbourne:20200402T140000
DTEND;TZID=Australia/Melbourne:20200402T150000
DTSTAMP:20260421T095958
CREATED:20200203T055759Z
LAST-MODIFIED:20200203T055759Z
UID:4649-1585836000-1585839600@lmhn.net.au
SUMMARY:SHIP- Reports & Lists
DESCRIPTION:This advanced SHIP training is suitable for Managers and Coordinators with basic SHIP experience. \nRegister by 25th March \nPlease click on the web address below to register. \n 
URL:https://lmhn.net.au/event/ship-reports-lists/
LOCATION:Victoria
CATEGORIES:Data,SHIP Training
END:VEVENT
BEGIN:VEVENT
DTSTART;TZID=Australia/Melbourne:20200406T093000
DTEND;TZID=Australia/Melbourne:20200406T163000
DTSTAMP:20260421T095958
CREATED:20200114T011320Z
LAST-MODIFIED:20200114T011320Z
UID:4573-1586165400-1586190600@lmhn.net.au
SUMMARY:Specialist Homelessness Information Platform (SHIP) training (1 day)
DESCRIPTION:This workshop is for new workers. It explores the Specialist Homelessness Information Platform (SHIP). \nAll resources in class – no prior learning required.
URL:https://lmhn.net.au/event/specialist-homelessness-information-platform-ship-training-1-day-4/
LOCATION:Centre for Adult Education\, 253 Flinders Lane\, Melbourne\, Victoria\, 3000\, Australia
CATEGORIES:SHIP Training
ORGANIZER;CN="Wodonga TAFE":MAILTO:shs@wodongatafe.edu.au
END:VEVENT
BEGIN:VEVENT
DTSTART;TZID=Australia/Melbourne:20200407T093000
DTEND;TZID=Australia/Melbourne:20200407T163000
DTSTAMP:20260421T095958
CREATED:20200114T011507Z
LAST-MODIFIED:20200114T011507Z
UID:4575-1586251800-1586277000@lmhn.net.au
SUMMARY:Advanced Specialist Homelessness Information Platform (SHIP) training (1 day)
DESCRIPTION:On completion of this course participants will be able to fully utilise client and staff management features\, manage SHIP user accounts\, output SHIP reports\, research and interpret data definitions using the Collection Manual\, extract SHS data and upload to SHOR\, fix SHOR validation errors\, and manage SHOR user accounts.
URL:https://lmhn.net.au/event/advanced-specialist-homelessness-information-platform-ship-training-1-day-2/
LOCATION:Centre for Adult Education\, 253 Flinders Lane\, Melbourne\, Victoria\, 3000\, Australia
CATEGORIES:SHIP Training
ORGANIZER;CN="Wodonga TAFE":MAILTO:shs@wodongatafe.edu.au
END:VEVENT
BEGIN:VEVENT
DTSTART;TZID=Australia/Melbourne:20200408T093000
DTEND;TZID=Australia/Melbourne:20200408T163000
DTSTAMP:20260421T095958
CREATED:20200114T011645Z
LAST-MODIFIED:20200114T011645Z
UID:4577-1586338200-1586363400@lmhn.net.au
SUMMARY:Specialist Homelessness Information Platform (SHIP) training (1 day)
DESCRIPTION:This workshop is for new workers. It explores the Specialist Homelessness Information Platform (SHIP). \nAll resources in class – no prior learning required.
URL:https://lmhn.net.au/event/specialist-homelessness-information-platform-ship-training-1-day-5/
LOCATION:Centre for Adult Education\, 253 Flinders Lane\, Melbourne\, Victoria\, 3000\, Australia
CATEGORIES:SHIP Training
ORGANIZER;CN="Wodonga TAFE":MAILTO:shs@wodongatafe.edu.au
END:VEVENT
BEGIN:VEVENT
DTSTART;TZID=Australia/Melbourne:20200420T093000
DTEND;TZID=Australia/Melbourne:20200420T130000
DTSTAMP:20260421T095958
CREATED:20200204T024458Z
LAST-MODIFIED:20200204T024458Z
UID:4705-1587375000-1587387600@lmhn.net.au
SUMMARY:My Inbox Sucks – A simple guide to achieving inbox zero
DESCRIPTION:Are you suffering from inbox overwhelm? Do you receive too many emails? You spend too much time in your email and not enough time working on business-critical projects and what’s worse you keep missing important messages. \nIf only you had a dollar for every time someone said\, “Have you read my email” and you’re forced to admit you haven’t! \nThis enthusiastic and practical workshop\, packed full of hints\, tips and ideas\, is your opportunity to regain control of your inbox and banish that feeling of doom every time you open your emails.
URL:https://lmhn.net.au/event/my-inbox-sucks-a-simple-guide-to-achieving-inbox-zero/
LOCATION:CHIA VIC\, Level 1\, 128 Exhibition St\, Melbourne\, Victoria\, Australia
CATEGORIES:Information Management,Information Technology,Professional Development
ORGANIZER;CN="Community Housing Industry Association of Victoria":MAILTO:holly.mullaney@chiavic.com.au
END:VEVENT
BEGIN:VEVENT
DTSTART;TZID=Australia/Melbourne:20200428T083000
DTEND;TZID=Australia/Melbourne:20200429T163000
DTSTAMP:20260421T095958
CREATED:20200114T012214Z
LAST-MODIFIED:20200114T012214Z
UID:4579-1588062600-1588177800@lmhn.net.au
SUMMARY:ASIST Training (2 days)
DESCRIPTION:ASIST is an evidence-based approach to suicide intervention\, and is the most widely used and recognised suicide intervention framework. The two day workshop provides attendees with the skills to recognise when an individual is at risk of suicide\, how to clarify that risk\, enhance their immediate safety and link them to further help. \nAttendance on both days is essential.
URL:https://lmhn.net.au/event/asist-training-2-days/
LOCATION:Centre for Adult Education\, 253 Flinders Lane\, Melbourne\, Victoria\, 3000\, Australia
CATEGORIES:SHIP Training
ORGANIZER;CN="Wodonga TAFE":MAILTO:shs@wodongatafe.edu.au
END:VEVENT
BEGIN:VEVENT
DTSTART;TZID=Australia/Melbourne:20200430T093000
DTEND;TZID=Australia/Melbourne:20200501T163000
DTSTAMP:20260421T095958
CREATED:20200114T012435Z
LAST-MODIFIED:20200114T012435Z
UID:4581-1588239000-1588350600@lmhn.net.au
SUMMARY:Advanced Therapeutic Work (2 days)
DESCRIPTION:This two-day workshop provides practitioner’s with the knowledge and skills to integrate a therapeutic approach when working with clients. \nA Therapeutic approach incorporates the principles and practices of; Client centred practice\, Attachment Theory\, Trauma Informed Practice\, Healing & Recovery\, Family Sensitive Practice\, Systems Theory\, Stages of change\, Solution Focused and Strengths-based approach\, Motivation & Goal setting\, Problem solving and decision-making and Questioning methods.
URL:https://lmhn.net.au/event/advanced-therapeutic-work-2-days/
LOCATION:Centre for Adult Education\, 253 Flinders Lane\, Melbourne\, Victoria\, 3000\, Australia
CATEGORIES:SHIP Training
ORGANIZER;CN="Wodonga TAFE":MAILTO:shs@wodongatafe.edu.au
END:VEVENT
END:VCALENDAR