BEGIN:VCALENDAR
VERSION:2.0
PRODID:-//Loddon Mallee Homelessness Network - ECPv6.15.17.1//NONSGML v1.0//EN
CALSCALE:GREGORIAN
METHOD:PUBLISH
X-ORIGINAL-URL:https://lmhn.net.au
X-WR-CALDESC:Events for Loddon Mallee Homelessness Network
REFRESH-INTERVAL;VALUE=DURATION:PT1H
X-Robots-Tag:noindex
X-PUBLISHED-TTL:PT1H
BEGIN:VTIMEZONE
TZID:Australia/Melbourne
BEGIN:STANDARD
TZOFFSETFROM:+1100
TZOFFSETTO:+1000
TZNAME:AEST
DTSTART:20190406T160000
END:STANDARD
BEGIN:DAYLIGHT
TZOFFSETFROM:+1000
TZOFFSETTO:+1100
TZNAME:AEDT
DTSTART:20191005T160000
END:DAYLIGHT
BEGIN:STANDARD
TZOFFSETFROM:+1100
TZOFFSETTO:+1000
TZNAME:AEST
DTSTART:20200404T160000
END:STANDARD
BEGIN:DAYLIGHT
TZOFFSETFROM:+1000
TZOFFSETTO:+1100
TZNAME:AEDT
DTSTART:20201003T160000
END:DAYLIGHT
BEGIN:STANDARD
TZOFFSETFROM:+1100
TZOFFSETTO:+1000
TZNAME:AEST
DTSTART:20210403T160000
END:STANDARD
BEGIN:DAYLIGHT
TZOFFSETFROM:+1000
TZOFFSETTO:+1100
TZNAME:AEDT
DTSTART:20211002T160000
END:DAYLIGHT
END:VTIMEZONE
BEGIN:VEVENT
DTSTART;TZID=Australia/Melbourne:20200430T093000
DTEND;TZID=Australia/Melbourne:20200501T163000
DTSTAMP:20260421T083005
CREATED:20200114T012435Z
LAST-MODIFIED:20200114T012435Z
UID:4581-1588239000-1588350600@lmhn.net.au
SUMMARY:Advanced Therapeutic Work (2 days)
DESCRIPTION:This two-day workshop provides practitioner’s with the knowledge and skills to integrate a therapeutic approach when working with clients. \nA Therapeutic approach incorporates the principles and practices of; Client centred practice\, Attachment Theory\, Trauma Informed Practice\, Healing & Recovery\, Family Sensitive Practice\, Systems Theory\, Stages of change\, Solution Focused and Strengths-based approach\, Motivation & Goal setting\, Problem solving and decision-making and Questioning methods.
URL:https://lmhn.net.au/event/advanced-therapeutic-work-2-days/
LOCATION:Centre for Adult Education\, 253 Flinders Lane\, Melbourne\, Victoria\, 3000\, Australia
CATEGORIES:SHIP Training
ORGANIZER;CN="Wodonga TAFE":MAILTO:shs@wodongatafe.edu.au
END:VEVENT
BEGIN:VEVENT
DTSTART;TZID=Australia/Melbourne:20200501T093000
DTEND;TZID=Australia/Melbourne:20200501T163000
DTSTAMP:20260421T083005
CREATED:20200203T221647Z
LAST-MODIFIED:20200203T221647Z
UID:4672-1588325400-1588350600@lmhn.net.au
SUMMARY:Through the Eyes of a Child
DESCRIPTION:All practitioners have a responsibility to understand the experience of a child who has experienced family violence/homelessness/trauma\, separate from the experience of their parent/carer. \nThis training is focused on hearing children’s experiences of family violence and developing ways to assess and support children.
URL:https://lmhn.net.au/event/through-the-eyes-of-a-child/
LOCATION:Centre for Excellence in Child & Family Welfare\, 5/50 Market Street\, Melbourne\, Victoria\, 3000\, Australia
CATEGORIES:Children
ORGANIZER;CN="Centre for Excellence in Childand Family Welfare":MAILTO:training@cfecfw@asn.au
END:VEVENT
BEGIN:VEVENT
DTSTART;TZID=Australia/Melbourne:20200504T093000
DTEND;TZID=Australia/Melbourne:20200505T163000
DTSTAMP:20260421T083005
CREATED:20200114T015403Z
LAST-MODIFIED:20200114T015403Z
UID:4583-1588584600-1588696200@lmhn.net.au
SUMMARY:Provide Supervision (2 days)
DESCRIPTION:This workshop focuses on the knowledge and skills required to provide supervision as a support for workers in the community services industry\, including providing backup support\, performing a range of administrative tasks\, providing a structured debriefing process\, and maintaining one’s own professionalism and skills development. \nAttendance on both days is essential
URL:https://lmhn.net.au/event/provide-supervision-2-days/
LOCATION:Centre for Adult Education\, 253 Flinders Lane\, Melbourne\, Victoria\, 3000\, Australia
CATEGORIES:SHIP Training
ORGANIZER;CN="Wodonga TAFE":MAILTO:shs@wodongatafe.edu.au
END:VEVENT
BEGIN:VEVENT
DTSTART;TZID=Australia/Melbourne:20200511T093000
DTEND;TZID=Australia/Melbourne:20200511T163000
DTSTAMP:20260421T083005
CREATED:20200203T222137Z
LAST-MODIFIED:20200203T222137Z
UID:4674-1589189400-1589214600@lmhn.net.au
SUMMARY:Difficult Conversations-How to Talk to Children and Young People About Almost Anything
DESCRIPTION:This one-day workshop is for anyone who may have potentially difficult conversations with children and young people. The workshop covers: assessing the child or young person’s development level and developmental needs prior to a potentially difficult conversation; a simple structure that is applicable to many difficult conversations with children and young people; the importance of having a positive purpose or purposes in mind prior to and during the difficult conversation; how to use language in a way that is respectful and honest and; the how\, when and where of delivering difficult news to children and young people.
URL:https://lmhn.net.au/event/difficult-conversations-how-to-talk-to-children-and-young-people-about-almost-anything/
LOCATION:Centre for Excellence in Child & Family Welfare\, 5/50 Market Street\, Melbourne\, Victoria\, 3000\, Australia
CATEGORIES:Children
ORGANIZER;CN="Centre for Excellence in Childand Family Welfare":MAILTO:training@cfecfw@asn.au
END:VEVENT
END:VCALENDAR