BEGIN:VCALENDAR
VERSION:2.0
PRODID:-//Loddon Mallee Homelessness Network - ECPv6.15.17.1//NONSGML v1.0//EN
CALSCALE:GREGORIAN
METHOD:PUBLISH
X-ORIGINAL-URL:https://lmhn.net.au
X-WR-CALDESC:Events for Loddon Mallee Homelessness Network
REFRESH-INTERVAL;VALUE=DURATION:PT1H
X-Robots-Tag:noindex
X-PUBLISHED-TTL:PT1H
BEGIN:VTIMEZONE
TZID:UTC
BEGIN:STANDARD
TZOFFSETFROM:+0000
TZOFFSETTO:+0000
TZNAME:UTC
DTSTART:20190101T000000
END:STANDARD
END:VTIMEZONE
BEGIN:VEVENT
DTSTART;TZID=UTC:20200701T080000
DTEND;TZID=UTC:20200701T170000
DTSTAMP:20260421T050840
CREATED:20200630T202933Z
LAST-MODIFIED:20200630T202933Z
UID:5091-1593590400-1593622800@lmhn.net.au
SUMMARY:Advanced Specialist Homelessness Information Platform (SHIP)
DESCRIPTION:On completion of this course participants will be able to fully utilise client and staff management features\, manage SHIP user accounts\, output SHIP reports\, research and interpret data definitions using the Collection Manual\, extract SHS data and upload to SHOR\, fix SHOR validation errors\, and manage SHOR user accounts. \n*Log on details & pre-reading material (if applicable) to be emailed to registered participants prior to the date of delivery
URL:https://lmhn.net.au/event/advanced-specialist-homelessness-information-platform-ship/
LOCATION:Online
CATEGORIES:Information Technology,SHIP Training
ORGANIZER;CN="Wodonga TAFE":MAILTO:shs@wodongatafe.edu.au
END:VEVENT
BEGIN:VEVENT
DTSTART;TZID=UTC:20200701T130000
DTEND;TZID=UTC:20200701T143000
DTSTAMP:20260421T050840
CREATED:20200610T213735Z
LAST-MODIFIED:20200610T213735Z
UID:4973-1593608400-1593613800@lmhn.net.au
SUMMARY:Launch of Pride in Prevention Evidence Guide
DESCRIPTION:Online launch of Pride in Prevention: A guide to primary prevention of family violence experienced by LGBTIQ communities\n\n\n\n\n\n\n\n\nThis guide has been produced by the LGBTIQ Family Violence Prevention Project 2019-2021\, a ground-breaking initiative led by Rainbow Health Victoria and funded by the Office for Women in the Victorian Department of Premier and Cabinet . \nThis project forges new ground in the primary prevention of family violence experienced by LGBTIQ communities\, seeking to address critical evidence gaps\, strengthen understanding of the drivers of violence\, and build expertise for both LGBTIQ organisations and family violence primary prevention organisations to effectively deliver evidence-based programs.
URL:https://lmhn.net.au/event/launch-of-pride-in-prevention-evidence-guide/
LOCATION:Online
CATEGORIES:Family Violence,LGBTI
ORGANIZER;CN="Rainbow Network":MAILTO:glhv@latrobe.edu.au
END:VEVENT
BEGIN:VEVENT
DTSTART;TZID=UTC:20200720T093000
DTEND;TZID=UTC:20200720T123000
DTSTAMP:20260421T050840
CREATED:20200630T200519Z
LAST-MODIFIED:20200630T200519Z
UID:5085-1595237400-1595248200@lmhn.net.au
SUMMARY:Provide Supervision
DESCRIPTION:Focusing on the knowledge and skills required to provide supervision as a support for workers in the community services industry and includes information on; providing backup support\, performing a range of administrative tasks\, providing a structured debriefing process and maintaining one’s own professionalism and skills development. \nThe training is relevant for people who have recently moved into supervisory positions and for people who have some experience and want to further develop their supervisory skills. \nAttendance on all 3 days is essential.  \nMonday 20th\, Wednesday 22nd & Friday 24th July 2020
URL:https://lmhn.net.au/event/provide-supervision/
LOCATION:Online
CATEGORIES:Management,Professional Development
ORGANIZER;CN="Wodonga TAFE":MAILTO:shs@wodongatafe.edu.au
END:VEVENT
BEGIN:VEVENT
DTSTART;TZID=UTC:20200727T130000
DTEND;TZID=UTC:20200727T143000
DTSTAMP:20260421T050840
CREATED:20200715T162826Z
LAST-MODIFIED:20200715T162858Z
UID:5117-1595854800-1595860200@lmhn.net.au
SUMMARY:COVID-19 Rough Sleeping Responses: Updates from the Sector
DESCRIPTION:The Australian Alliance for Ending Homelessness invites you to join us for an online forum focusing on Rough Sleeping Responses due to the current COVID-19 pandemic.\n\n\n\n\n\n\nThis is your opportunity to hear updates from the sector about responses that have been implemented in communities across Australia to support people sleeping rough during this pandemic and to hear how you can get involved in the #HomesBeyondCovid campaign
URL:https://lmhn.net.au/event/covid-19-rough-sleeping-responses-updates-from-the-sector/
LOCATION:Online
CATEGORIES:Advocacy,COVID-19,Homelessness
ORGANIZER;CN="Australian Alliance to End Homelessness":MAILTO:info@aaeh.org.au
END:VEVENT
BEGIN:VEVENT
DTSTART;TZID=UTC:20200728T100000
DTEND;TZID=UTC:20200728T123000
DTSTAMP:20260421T050840
CREATED:20200630T195227Z
LAST-MODIFIED:20200630T195227Z
UID:5079-1595930400-1595939400@lmhn.net.au
SUMMARY:Introduction to MARAM for the SHS
DESCRIPTION:Introduction to MARAM for the SHS provides an overview of the Family Violence Multi-Agency Risk Assessment and Management Framework (MARAM). \nThe session addresses the purpose and intent of the reform and how it embeds to practice. \n*Log on details & pre-reading material (if applicable) to be emailed to registered participants prior to the date of delivery
URL:https://lmhn.net.au/event/introduction-to-maram-for-the-shs/
LOCATION:Online
CATEGORIES:Family Violence,MARAM
ORGANIZER;CN="Wodonga TAFE":MAILTO:shs@wodongatafe.edu.au
END:VEVENT
BEGIN:VEVENT
DTSTART;TZID=UTC:20200730T100000
DTEND;TZID=UTC:20200730T123000
DTSTAMP:20260421T050840
CREATED:20200630T195702Z
LAST-MODIFIED:20200630T195702Z
UID:5082-1596103200-1596112200@lmhn.net.au
SUMMARY:Introduction to Information Sharing Schemes for SHS
DESCRIPTION:Introduction to the Information Sharing Schemes for SHS explores how the Family Violence and Children’s Information Sharing schemes enable the objectives relating to the Family Violence Multi-Agency Risk Assessment and Management Framework (MARAM). \nThe session addresses the purpose and intent of the reforms and how they can be utilised in practice to provide better outcomes for victim-survivors. \n*Log on details & pre-reading material (if applicable) to be emailed to registered participants prior to the date of delivery
URL:https://lmhn.net.au/event/introduction-to-information-sharing-schemes-for-shs/
LOCATION:Online
CATEGORIES:Family Violence,MARAM
ORGANIZER;CN="Wodonga TAFE":MAILTO:shs@wodongatafe.edu.au
END:VEVENT
BEGIN:VEVENT
DTSTART;TZID=UTC:20200731T100000
DTEND;TZID=UTC:20200731T120000
DTSTAMP:20260421T050840
CREATED:20200630T204513Z
LAST-MODIFIED:20200630T204513Z
UID:5093-1596189600-1596196800@lmhn.net.au
SUMMARY:Coaching for Money Wellness: Financial Coaching for Community Sector Workers
DESCRIPTION:Financial capability coaching training aims to support your personal and professional development. It will: \n\nhelp you understand coaching concepts and how this can add value to your work\ngive you basic coaching skills\, techniques\, and tools\nhelp you understand your own relationship with money and how to set and reach financial goals\nbuild your confidence to have empowering money conversations with the people and communities you work with.\n\nThe training is evidence-based and provided by trained coaches. \nDelivered through two interactive modules\,  You can choose to do Module One only\, but both modules are recommended for people who work with women who are experiencing financial stress and disadvantage. \nThe training will be provided over 3 weeks: \nWeek 1 Zoom Presentation – Friday 31 July 2020\, 10am – 12pm \nWeek 2 Zoom Presentation – Friday 7 August 2020\, 10am – 12pm \nWeek 3 Zoom Presentation – Friday 14 August\, 10am – 12pm
URL:https://lmhn.net.au/event/coaching-for-money-wellness-financial-coaching-for-community-sector-workers/
LOCATION:Online
CATEGORIES:Finances,Professional Development
ORGANIZER;CN="Good Shepherd":MAILTO:emily.ninnes@goodshep.org.au
END:VEVENT
END:VCALENDAR