BEGIN:VCALENDAR
VERSION:2.0
PRODID:-//Loddon Mallee Homelessness Network - ECPv6.15.17.1//NONSGML v1.0//EN
CALSCALE:GREGORIAN
METHOD:PUBLISH
X-ORIGINAL-URL:https://lmhn.net.au
X-WR-CALDESC:Events for Loddon Mallee Homelessness Network
REFRESH-INTERVAL;VALUE=DURATION:PT1H
X-Robots-Tag:noindex
X-PUBLISHED-TTL:PT1H
BEGIN:VTIMEZONE
TZID:UTC
BEGIN:STANDARD
TZOFFSETFROM:+0000
TZOFFSETTO:+0000
TZNAME:UTC
DTSTART:20190101T000000
END:STANDARD
END:VTIMEZONE
BEGIN:VTIMEZONE
TZID:Australia/Melbourne
BEGIN:STANDARD
TZOFFSETFROM:+1100
TZOFFSETTO:+1000
TZNAME:AEST
DTSTART:20190406T160000
END:STANDARD
BEGIN:DAYLIGHT
TZOFFSETFROM:+1000
TZOFFSETTO:+1100
TZNAME:AEDT
DTSTART:20191005T160000
END:DAYLIGHT
BEGIN:STANDARD
TZOFFSETFROM:+1100
TZOFFSETTO:+1000
TZNAME:AEST
DTSTART:20200404T160000
END:STANDARD
BEGIN:DAYLIGHT
TZOFFSETFROM:+1000
TZOFFSETTO:+1100
TZNAME:AEDT
DTSTART:20201003T160000
END:DAYLIGHT
BEGIN:STANDARD
TZOFFSETFROM:+1100
TZOFFSETTO:+1000
TZNAME:AEST
DTSTART:20210403T160000
END:STANDARD
BEGIN:DAYLIGHT
TZOFFSETFROM:+1000
TZOFFSETTO:+1100
TZNAME:AEDT
DTSTART:20211002T160000
END:DAYLIGHT
END:VTIMEZONE
BEGIN:VEVENT
DTSTART;TZID=UTC:20201012T140000
DTEND;TZID=UTC:20201012T153000
DTSTAMP:20260421T003239
CREATED:20200902T211836Z
LAST-MODIFIED:20200902T211836Z
UID:5218-1602511200-1602516600@lmhn.net.au
SUMMARY:SHIP Data Entry- Basic functions
DESCRIPTION:Content: Opening a client support period\, SHSC concepts and definitions. \nWho should attend: Staff new to agency\, staff not able to attend face to face training\, new to Client Management Systems. \n*Register by 5th October
URL:https://lmhn.net.au/event/ship-data-entry-basic-functions-2/
LOCATION:Online
CATEGORIES:Data,SHIP Training
END:VEVENT
BEGIN:VEVENT
DTSTART;TZID=UTC:20201013T140000
DTEND;TZID=UTC:20201013T153000
DTSTAMP:20260421T003239
CREATED:20200902T212416Z
LAST-MODIFIED:20200902T213918Z
UID:5222-1602597600-1602603000@lmhn.net.au
SUMMARY:Advanced SHIP Training
DESCRIPTION:Administrative Functions in SHIP for Managers or anyone responsible for SHS reporting. \n*Register by 5th October \n 
URL:https://lmhn.net.au/event/5222/
LOCATION:Online
CATEGORIES:Data,SHIP Training
END:VEVENT
BEGIN:VEVENT
DTSTART;TZID=Australia/Melbourne:20201027T120000
DTEND;TZID=Australia/Melbourne:20201027T140000
DTSTAMP:20260421T003239
CREATED:20201019T053533Z
LAST-MODIFIED:20201019T053533Z
UID:5282-1603800000-1603807200@lmhn.net.au
SUMMARY:Housing First and Ending Homelessness
DESCRIPTION:Delivered by Karyn Walsh CEO of Micah Projects in Queensland\,  the Housing First and the Advance to Zero Methodology are different but mutually reinforcing approaches to ending homelessness. This session will explore the differences\, and how both are being used to end rough sleeping homelessness in Australia and around the world.
URL:https://lmhn.net.au/event/housing-first-and-ending-homelessness/
LOCATION:Online
CATEGORIES:Forum,Homelessness
ORGANIZER;CN="Australian Alliance to End Homelessness":MAILTO:info@aaeh.org.au
END:VEVENT
BEGIN:VEVENT
DTSTART;TZID=Australia/Melbourne:20201029T110000
DTEND;TZID=Australia/Melbourne:20201029T123000
DTSTAMP:20260421T003239
CREATED:20201019T060622Z
LAST-MODIFIED:20201019T060622Z
UID:5291-1603969200-1603974600@lmhn.net.au
SUMMARY:Integrating Housing Support for Vulnerable Families
DESCRIPTION:This free webinar will present findings from a new AHURI research project — Inquiry into integrated housing support for vulnerable families — led by Associate Professor kylie valentine\, University of New South Wales. \nThis Inquiry investigated how housing support for vulnerable families experiencing domestic and family violence can be best integrated with other types of support to enhance safety and wellbeing\, including for women in different housing tenures\, for Indigenous women and the integration of social housing policy with policies to support women affected by domestic and family violence.
URL:https://lmhn.net.au/event/integrating-housing-support-for-vulnerable-families/
LOCATION:Online
CATEGORIES:Family Violence,Housing,Inclusive Practice
ORGANIZER;CN="Australian Housing and Urban Research Institute":MAILTO:information@ahuri.edu.au
END:VEVENT
BEGIN:VEVENT
DTSTART;TZID=UTC:20201030T100000
DTEND;TZID=UTC:20201030T120000
DTSTAMP:20260421T003239
CREATED:20200630T204513Z
LAST-MODIFIED:20200630T204930Z
UID:5097-1604052000-1604059200@lmhn.net.au
SUMMARY:Coaching for Money Wellness: Financial Coaching for Community Sector Workers
DESCRIPTION:Financial capability coaching training aims to support your personal and professional development. It will: \n\nhelp you understand coaching concepts and how this can add value to your work\ngive you basic coaching skills\, techniques\, and tools\nhelp you understand your own relationship with money and how to set and reach financial goals\nbuild your confidence to have empowering money conversations with the people and communities you work with.\n\nThe training is evidence-based and provided by trained coaches. \nDelivered through two interactive modules\,  You can choose to do Module One only\, but both modules are recommended for people who work with women who are experiencing financial stress and disadvantage. \nThe training will be provided over 3 weeks: \nWeek 1 Zoom Presentation – Friday 30 October 2020\, 10am – 12pm \nWeek 2 Zoom Presentation – Friday 6 November 2020\, 10am – 12pm \nWeek 3 Zoom Presentation – Friday 13 November\, 10am – 12pm
URL:https://lmhn.net.au/event/coaching-for-money-wellness-financial-coaching-for-community-sector-workers-2020-10-30/
LOCATION:Online
CATEGORIES:Finances,Professional Development
ORGANIZER;CN="Good Shepherd":MAILTO:emily.ninnes@goodshep.org.au
END:VEVENT
END:VCALENDAR