BEGIN:VCALENDAR
VERSION:2.0
PRODID:-//Loddon Mallee Homelessness Network - ECPv6.15.17.1//NONSGML v1.0//EN
CALSCALE:GREGORIAN
METHOD:PUBLISH
X-ORIGINAL-URL:https://lmhn.net.au
X-WR-CALDESC:Events for Loddon Mallee Homelessness Network
REFRESH-INTERVAL;VALUE=DURATION:PT1H
X-Robots-Tag:noindex
X-PUBLISHED-TTL:PT1H
BEGIN:VTIMEZONE
TZID:Australia/Melbourne
BEGIN:STANDARD
TZOFFSETFROM:+1100
TZOFFSETTO:+1000
TZNAME:AEST
DTSTART:20210403T160000
END:STANDARD
BEGIN:DAYLIGHT
TZOFFSETFROM:+1000
TZOFFSETTO:+1100
TZNAME:AEDT
DTSTART:20211002T160000
END:DAYLIGHT
BEGIN:STANDARD
TZOFFSETFROM:+1100
TZOFFSETTO:+1000
TZNAME:AEST
DTSTART:20220402T160000
END:STANDARD
BEGIN:DAYLIGHT
TZOFFSETFROM:+1000
TZOFFSETTO:+1100
TZNAME:AEDT
DTSTART:20221001T160000
END:DAYLIGHT
BEGIN:STANDARD
TZOFFSETFROM:+1100
TZOFFSETTO:+1000
TZNAME:AEST
DTSTART:20230401T160000
END:STANDARD
BEGIN:DAYLIGHT
TZOFFSETFROM:+1000
TZOFFSETTO:+1100
TZNAME:AEDT
DTSTART:20230930T160000
END:DAYLIGHT
END:VTIMEZONE
BEGIN:VEVENT
DTSTART;TZID=Australia/Melbourne:20220808T140000
DTEND;TZID=Australia/Melbourne:20220810T150000
DTSTAMP:20260425T015523
CREATED:20220530T074522Z
LAST-MODIFIED:20220530T074522Z
UID:6030-1659967200-1660143600@lmhn.net.au
SUMMARY:AHURI Homelessness Conference 2022
DESCRIPTION:AHURI\, in partnership with Homelessness Australia convene the National Homelessness Conference 2022. The Conference returns as a face-to-face event in 2022 – to be held in Canberra\, while also offering a virtual option for delegates unable to travel to the nation’s capital. \nYou can view details and register here!
URL:https://lmhn.net.au/event/ahuri-homelessness-conference-2022/
LOCATION:National Convention Centre Canberra\, 31 Constitution Ave\, Canberra\, Canberra\, 2601\, Australia
CATEGORIES:Homelessness,Professional Development
ORGANIZER;CN="Australian Housing and Urban Research Institute":MAILTO:information@ahuri.edu.au
END:VEVENT
END:VCALENDAR