BEGIN:VCALENDAR
VERSION:2.0
PRODID:-//Loddon Mallee Homelessness Network - ECPv6.15.17.1//NONSGML v1.0//EN
CALSCALE:GREGORIAN
METHOD:PUBLISH
X-WR-CALNAME:Loddon Mallee Homelessness Network
X-ORIGINAL-URL:https://lmhn.net.au
X-WR-CALDESC:Events for Loddon Mallee Homelessness Network
REFRESH-INTERVAL;VALUE=DURATION:PT1H
X-Robots-Tag:noindex
X-PUBLISHED-TTL:PT1H
BEGIN:VTIMEZONE
TZID:Australia/Melbourne
BEGIN:STANDARD
TZOFFSETFROM:+1100
TZOFFSETTO:+1000
TZNAME:AEST
DTSTART:20220402T160000
END:STANDARD
BEGIN:DAYLIGHT
TZOFFSETFROM:+1000
TZOFFSETTO:+1100
TZNAME:AEDT
DTSTART:20221001T160000
END:DAYLIGHT
BEGIN:STANDARD
TZOFFSETFROM:+1100
TZOFFSETTO:+1000
TZNAME:AEST
DTSTART:20230401T160000
END:STANDARD
BEGIN:DAYLIGHT
TZOFFSETFROM:+1000
TZOFFSETTO:+1100
TZNAME:AEDT
DTSTART:20230930T160000
END:DAYLIGHT
BEGIN:STANDARD
TZOFFSETFROM:+1100
TZOFFSETTO:+1000
TZNAME:AEST
DTSTART:20240406T160000
END:STANDARD
BEGIN:DAYLIGHT
TZOFFSETFROM:+1000
TZOFFSETTO:+1100
TZNAME:AEDT
DTSTART:20241005T160000
END:DAYLIGHT
END:VTIMEZONE
BEGIN:VEVENT
DTSTART;TZID=Australia/Melbourne:20231023T100000
DTEND;TZID=Australia/Melbourne:20231023T160000
DTSTAMP:20260424T022344
CREATED:20230830T063227Z
LAST-MODIFIED:20230830T063434Z
UID:6460-1698055200-1698076800@lmhn.net.au
SUMMARY:Borderline Personality Disorder interactive training for SHS workers
DESCRIPTION:Tickets are now available through Humanitix https://events.humanitix.com/borderline-personality-disorder-interactive-training \nBookings are strictly limited to 40 attendees only\, and tickets are $50.00\, this also includes lunch.
URL:https://lmhn.net.au/event/borderline-personality-disorder-interactive-training-for-shs-workers/
LOCATION:Quality Hotel Lakeside\, 286 Napier Street\, Bendigo\, Vic\, 3550\, Australia
CATEGORIES:Mental Health,Professional Development
ORGANIZER;CN="Loddon Mallee Homelessness Network":MAILTO:kirstyw@cnv.org.au
END:VEVENT
END:VCALENDAR